Package: MetaboCoreUtils Version: 1.19.1 Command: rm -rf MetaboCoreUtils.buildbin-libdir && mkdir MetaboCoreUtils.buildbin-libdir && /Users/biocbuild/BBS/utils/build-universal.sh MetaboCoreUtils_1.19.1.tar.gz /Library/Frameworks/R.framework/Resources/bin/R MetaboCoreUtils.buildbin-libdir StartedAt: 2025-11-21 01:42:02 -0500 (Fri, 21 Nov 2025) EndedAt: 2025-11-21 01:42:15 -0500 (Fri, 21 Nov 2025) EllapsedTime: 12.7 seconds RetCode: 0 Status: OK PackageFile: MetaboCoreUtils_1.19.1.tgz PackageFileSize: 1.088 MiB