Package: MetaboCoreUtils Version: 1.19.1 Command: /home/biocbuild/bbs-3.23-bioc/R/bin/R CMD INSTALL MetaboCoreUtils StartedAt: 2025-11-19 15:16:53 -0500 (Wed, 19 Nov 2025) EndedAt: 2025-11-19 15:16:58 -0500 (Wed, 19 Nov 2025) EllapsedTime: 5.5 seconds RetCode: 0 Status: OK