Package: ModCon Version: 1.19.0 Command: /Library/Frameworks/R.framework/Resources/bin/R CMD build --keep-empty-dirs --no-resave-data ModCon StartedAt: 2025-11-19 17:47:57 -0500 (Wed, 19 Nov 2025) EndedAt: 2025-11-19 17:49:58 -0500 (Wed, 19 Nov 2025) EllapsedTime: 121.1 seconds RetCode: 0 Status: OK PackageFile: ModCon_1.19.0.tar.gz PackageFileSize: 1.912 MiB