Package: ModCon Version: 1.19.0 Command: /Library/Frameworks/R.framework/Resources/bin/R CMD INSTALL ModCon StartedAt: 2025-11-19 15:11:33 -0500 (Wed, 19 Nov 2025) EndedAt: 2025-11-19 15:11:57 -0500 (Wed, 19 Nov 2025) EllapsedTime: 24.4 seconds RetCode: 0 Status: OK