Package: ModCon Version: 1.19.0 Command: /home/biocbuild/bbs-3.23-bioc/R/bin/R CMD INSTALL ModCon StartedAt: 2025-11-19 15:05:54 -0500 (Wed, 19 Nov 2025) EndedAt: 2025-11-19 15:06:09 -0500 (Wed, 19 Nov 2025) EllapsedTime: 14.5 seconds RetCode: 0 Status: OK