Package: Modstrings Version: 1.27.0 Command: /Library/Frameworks/R.framework/Resources/bin/R CMD INSTALL Modstrings StartedAt: 2025-11-19 15:12:15 -0500 (Wed, 19 Nov 2025) EndedAt: 2025-11-19 15:12:17 -0500 (Wed, 19 Nov 2025) EllapsedTime: 2.1 seconds RetCode: 1 Status: ERROR