Package: Modstrings Version: 1.27.0 Command: /Library/Frameworks/R.framework/Resources/bin/R CMD build --keep-empty-dirs --no-resave-data Modstrings StartedAt: 2025-11-19 17:48:07 -0500 (Wed, 19 Nov 2025) EndedAt: 2025-11-19 17:48:14 -0500 (Wed, 19 Nov 2025) EllapsedTime: 6.9 seconds RetCode: 1 Status: ERROR PackageFile: None PackageFileSize: NA