Package: Modstrings Version: 1.27.0 Command: /Library/Frameworks/R.framework/Resources/bin/R CMD INSTALL Modstrings StartedAt: 2025-11-19 15:23:45 -0500 (Wed, 19 Nov 2025) EndedAt: 2025-11-19 15:23:50 -0500 (Wed, 19 Nov 2025) EllapsedTime: 5.6 seconds RetCode: 1 Status: ERROR