Package: Modstrings Version: 1.27.0 Command: /home/biocbuild/bbs-3.23-bioc/R/bin/R CMD INSTALL Modstrings StartedAt: 2025-11-19 15:19:15 -0500 (Wed, 19 Nov 2025) EndedAt: 2025-11-19 15:19:19 -0500 (Wed, 19 Nov 2025) EllapsedTime: 4.1 seconds RetCode: 1 Status: ERROR