Package: MsBackendMsp Version: 1.15.0 Command: /Library/Frameworks/R.framework/Resources/bin/R CMD INSTALL MsBackendMsp StartedAt: 2025-11-19 15:09:28 -0500 (Wed, 19 Nov 2025) EndedAt: 2025-11-19 15:09:33 -0500 (Wed, 19 Nov 2025) EllapsedTime: 4.3 seconds RetCode: 0 Status: OK