Package: MsBackendMsp Version: 1.15.0 Command: rm -rf MsBackendMsp.buildbin-libdir && mkdir MsBackendMsp.buildbin-libdir && /Users/biocbuild/BBS/utils/build-universal.sh MsBackendMsp_1.15.0.tar.gz /Library/Frameworks/R.framework/Resources/bin/R MsBackendMsp.buildbin-libdir StartedAt: 2025-11-19 01:40:04 -0500 (Wed, 19 Nov 2025) EndedAt: 2025-11-19 01:40:20 -0500 (Wed, 19 Nov 2025) EllapsedTime: 16.1 seconds RetCode: 0 Status: OK PackageFile: MsBackendMsp_1.15.0.tgz PackageFileSize: 366.2 KiB