Package: MsBackendRawFileReader Version: 1.17.0 Command: /Library/Frameworks/R.framework/Resources/bin/R CMD INSTALL MsBackendRawFileReader StartedAt: 2025-11-19 15:09:27 -0500 (Wed, 19 Nov 2025) EndedAt: 2025-11-19 15:09:32 -0500 (Wed, 19 Nov 2025) EllapsedTime: 4.5 seconds RetCode: 0 Status: OK