Package: MsBackendRawFileReader Version: 1.17.0 Command: rm -rf MsBackendRawFileReader.buildbin-libdir && mkdir MsBackendRawFileReader.buildbin-libdir && /Users/biocbuild/BBS/utils/build-universal.sh MsBackendRawFileReader_1.17.0.tar.gz /Library/Frameworks/R.framework/Resources/bin/R MsBackendRawFileReader.buildbin-libdir StartedAt: 2025-11-20 01:44:16 -0500 (Thu, 20 Nov 2025) EndedAt: 2025-11-20 01:44:34 -0500 (Thu, 20 Nov 2025) EllapsedTime: 17.2 seconds RetCode: 0 Status: OK PackageFile: MsBackendRawFileReader_1.17.0.tgz PackageFileSize: 1.251 MiB