Package: MsBackendRawFileReader Version: 1.17.0 Command: /Library/Frameworks/R.framework/Resources/bin/R CMD build --keep-empty-dirs --no-resave-data MsBackendRawFileReader StartedAt: 2025-11-19 17:53:22 -0500 (Wed, 19 Nov 2025) EndedAt: 2025-11-19 17:56:14 -0500 (Wed, 19 Nov 2025) EllapsedTime: 172.7 seconds RetCode: 0 Status: OK PackageFile: MsBackendRawFileReader_1.17.0.tar.gz PackageFileSize: 1.469 MiB