Package: MsBackendRawFileReader Version: 1.17.0 Command: /home/biocbuild/bbs-3.23-bioc/R/bin/R CMD build --keep-empty-dirs --no-resave-data MsBackendRawFileReader StartedAt: 2025-11-19 18:54:26 -0500 (Wed, 19 Nov 2025) EndedAt: 2025-11-19 18:56:11 -0500 (Wed, 19 Nov 2025) EllapsedTime: 105.1 seconds RetCode: 0 Status: OK PackageFile: MsBackendRawFileReader_1.17.0.tar.gz PackageFileSize: 1.595 MiB