Package: MsBackendRawFileReader Version: 1.17.0 Command: /home/biocbuild/bbs-3.23-bioc/R/bin/R CMD INSTALL MsBackendRawFileReader StartedAt: 2025-11-19 15:17:55 -0500 (Wed, 19 Nov 2025) EndedAt: 2025-11-19 15:18:05 -0500 (Wed, 19 Nov 2025) EllapsedTime: 10.5 seconds RetCode: 0 Status: OK