Package: MsBackendSql Version: 1.11.1 Command: rm -rf MsBackendSql.buildbin-libdir && mkdir MsBackendSql.buildbin-libdir && /Users/biocbuild/BBS/utils/build-universal.sh MsBackendSql_1.11.1.tar.gz /Library/Frameworks/R.framework/Resources/bin/R MsBackendSql.buildbin-libdir StartedAt: 2025-11-19 23:43:19 -0500 (Wed, 19 Nov 2025) EndedAt: 2025-11-19 23:43:26 -0500 (Wed, 19 Nov 2025) EllapsedTime: 7.2 seconds RetCode: 0 Status: OK PackageFile: MsBackendSql_1.11.1.tgz PackageFileSize: 639.5 KiB