Package: MsBackendSql Version: 1.11.1 Command: /Library/Frameworks/R.framework/Resources/bin/R CMD build --keep-empty-dirs --no-resave-data MsBackendSql StartedAt: 2025-11-19 17:05:14 -0500 (Wed, 19 Nov 2025) EndedAt: 2025-11-19 17:05:43 -0500 (Wed, 19 Nov 2025) EllapsedTime: 29.3 seconds RetCode: 0 Status: OK PackageFile: MsBackendSql_1.11.1.tar.gz PackageFileSize: 348.4 KiB