Package: MsBackendSql Version: 1.11.1 Command: rm -rf MsBackendSql.buildbin-libdir && mkdir MsBackendSql.buildbin-libdir && /Users/biocbuild/BBS/utils/build-universal.sh MsBackendSql_1.11.1.tar.gz /Library/Frameworks/R.framework/Resources/bin/R MsBackendSql.buildbin-libdir StartedAt: 2025-11-19 01:40:05 -0500 (Wed, 19 Nov 2025) EndedAt: 2025-11-19 01:40:27 -0500 (Wed, 19 Nov 2025) EllapsedTime: 21.9 seconds RetCode: 0 Status: OK PackageFile: MsBackendSql_1.11.1.tgz PackageFileSize: 639.3 KiB