Package: MsBackendSql Version: 1.11.1 Command: /Library/Frameworks/R.framework/Resources/bin/R CMD build --keep-empty-dirs --no-resave-data MsBackendSql StartedAt: 2025-11-18 17:49:56 -0500 (Tue, 18 Nov 2025) EndedAt: 2025-11-18 17:51:21 -0500 (Tue, 18 Nov 2025) EllapsedTime: 84.7 seconds RetCode: 0 Status: OK PackageFile: MsBackendSql_1.11.1.tar.gz PackageFileSize: 348.3 KiB