Package: MsBackendSql Version: 1.11.1 Command: /Library/Frameworks/R.framework/Resources/bin/R CMD INSTALL MsBackendSql StartedAt: 2025-11-18 15:20:36 -0500 (Tue, 18 Nov 2025) EndedAt: 2025-11-18 15:20:52 -0500 (Tue, 18 Nov 2025) EllapsedTime: 16.7 seconds RetCode: 0 Status: OK