Package: MsBackendSql Version: 1.11.1 Command: /home/biocbuild/bbs-3.23-bioc/R/bin/R CMD INSTALL MsBackendSql StartedAt: 2025-11-19 15:17:55 -0500 (Wed, 19 Nov 2025) EndedAt: 2025-11-19 15:18:09 -0500 (Wed, 19 Nov 2025) EllapsedTime: 13.9 seconds RetCode: 0 Status: OK