Package: MsCoreUtils Version: 1.23.0 Command: /Library/Frameworks/R.framework/Resources/bin/R CMD build --keep-empty-dirs --no-resave-data MsCoreUtils StartedAt: 2025-11-18 17:15:00 -0500 (Tue, 18 Nov 2025) EndedAt: 2025-11-18 17:15:06 -0500 (Tue, 18 Nov 2025) EllapsedTime: 6.1 seconds RetCode: 0 Status: OK PackageFile: MsCoreUtils_1.23.0.tar.gz PackageFileSize: 414.2 KiB