Package: MsCoreUtils Version: 1.23.0 Command: rm -rf MsCoreUtils.buildbin-libdir && mkdir MsCoreUtils.buildbin-libdir && /Users/biocbuild/BBS/utils/build-universal.sh MsCoreUtils_1.23.0.tar.gz /Library/Frameworks/R.framework/Resources/bin/R MsCoreUtils.buildbin-libdir StartedAt: 2025-11-20 01:44:20 -0500 (Thu, 20 Nov 2025) EndedAt: 2025-11-20 01:44:36 -0500 (Thu, 20 Nov 2025) EllapsedTime: 16.1 seconds RetCode: 0 Status: OK PackageFile: MsCoreUtils_1.23.0.tgz PackageFileSize: 537.7 KiB