Package: MsCoreUtils Version: 1.23.0 Command: /Library/Frameworks/R.framework/Resources/bin/R CMD INSTALL MsCoreUtils StartedAt: 2025-11-18 15:19:02 -0500 (Tue, 18 Nov 2025) EndedAt: 2025-11-18 15:19:20 -0500 (Tue, 18 Nov 2025) EllapsedTime: 17.8 seconds RetCode: 0 Status: OK