Package: MsFeatures Version: 1.19.0 Command: rm -rf MsFeatures.buildbin-libdir && mkdir MsFeatures.buildbin-libdir && /Users/biocbuild/BBS/utils/build-universal.sh MsFeatures_1.19.0.tar.gz /Library/Frameworks/R.framework/Resources/bin/R MsFeatures.buildbin-libdir StartedAt: 2025-11-18 23:50:04 -0500 (Tue, 18 Nov 2025) EndedAt: 2025-11-18 23:50:16 -0500 (Tue, 18 Nov 2025) EllapsedTime: 11.2 seconds RetCode: 0 Status: OK PackageFile: MsFeatures_1.19.0.tgz PackageFileSize: 1.266 MiB