Package: MsFeatures Version: 1.19.0 Command: /Library/Frameworks/R.framework/Resources/bin/R CMD build --keep-empty-dirs --no-resave-data MsFeatures StartedAt: 2025-11-18 17:15:09 -0500 (Tue, 18 Nov 2025) EndedAt: 2025-11-18 17:15:24 -0500 (Tue, 18 Nov 2025) EllapsedTime: 15.2 seconds RetCode: 0 Status: OK PackageFile: MsFeatures_1.19.0.tar.gz PackageFileSize: 1.219 MiB