Package: MsFeatures Version: 1.19.0 Command: /Library/Frameworks/R.framework/Resources/bin/R CMD INSTALL MsFeatures StartedAt: 2025-11-18 15:25:00 -0500 (Tue, 18 Nov 2025) EndedAt: 2025-11-18 15:25:08 -0500 (Tue, 18 Nov 2025) EllapsedTime: 8.1 seconds RetCode: 0 Status: OK