Package: MultiDataSet Version: 1.39.0 Command: rm -rf MultiDataSet.buildbin-libdir && mkdir MultiDataSet.buildbin-libdir && /Users/biocbuild/BBS/utils/build-universal.sh MultiDataSet_1.39.0.tar.gz /Library/Frameworks/R.framework/Resources/bin/R MultiDataSet.buildbin-libdir StartedAt: 2025-11-19 23:43:56 -0500 (Wed, 19 Nov 2025) EndedAt: 2025-11-19 23:44:07 -0500 (Wed, 19 Nov 2025) EllapsedTime: 11.2 seconds RetCode: 0 Status: OK PackageFile: MultiDataSet_1.39.0.tgz PackageFileSize: 872.2 KiB