Package: MultiDataSet Version: 1.39.0 Command: /Library/Frameworks/R.framework/Resources/bin/R CMD INSTALL MultiDataSet StartedAt: 2025-11-18 15:24:18 -0500 (Tue, 18 Nov 2025) EndedAt: 2025-11-18 15:24:27 -0500 (Tue, 18 Nov 2025) EllapsedTime: 9.7 seconds RetCode: 0 Status: OK