Package: MultiDataSet Version: 1.39.0 Command: rm -rf MultiDataSet.buildbin-libdir && mkdir MultiDataSet.buildbin-libdir && /Users/biocbuild/BBS/utils/build-universal.sh MultiDataSet_1.39.0.tar.gz /Library/Frameworks/R.framework/Resources/bin/R MultiDataSet.buildbin-libdir StartedAt: 2025-11-20 01:45:03 -0500 (Thu, 20 Nov 2025) EndedAt: 2025-11-20 01:45:39 -0500 (Thu, 20 Nov 2025) EllapsedTime: 35.8 seconds RetCode: 0 Status: OK PackageFile: MultiDataSet_1.39.0.tgz PackageFileSize: 870.5 KiB