Package: MultiDataSet Version: 1.39.0 Command: /Library/Frameworks/R.framework/Resources/bin/R CMD build --keep-empty-dirs --no-resave-data MultiDataSet StartedAt: 2025-11-18 17:53:33 -0500 (Tue, 18 Nov 2025) EndedAt: 2025-11-18 17:54:41 -0500 (Tue, 18 Nov 2025) EllapsedTime: 67.5 seconds RetCode: 0 Status: OK PackageFile: MultiDataSet_1.39.0.tar.gz PackageFileSize: 494.8 KiB