Package: MultiDataSet Version: 1.39.0 Command: /Library/Frameworks/R.framework/Resources/bin/R CMD INSTALL MultiDataSet StartedAt: 2025-11-18 15:25:42 -0500 (Tue, 18 Nov 2025) EndedAt: 2025-11-18 15:26:15 -0500 (Tue, 18 Nov 2025) EllapsedTime: 33.0 seconds RetCode: 0 Status: OK