Package: MultiDataSet Version: 1.39.0 Command: /home/biocbuild/bbs-3.23-bioc/R/bin/R CMD INSTALL MultiDataSet StartedAt: 2025-11-18 16:13:53 -0500 (Tue, 18 Nov 2025) EndedAt: 2025-11-18 16:14:17 -0500 (Tue, 18 Nov 2025) EllapsedTime: 24.2 seconds RetCode: 0 Status: OK