Package: MultimodalExperiment Version: 1.11.0 Command: /Library/Frameworks/R.framework/Resources/bin/R CMD build --keep-empty-dirs --no-resave-data MultimodalExperiment StartedAt: 2025-11-18 17:17:04 -0500 (Tue, 18 Nov 2025) EndedAt: 2025-11-18 17:17:23 -0500 (Tue, 18 Nov 2025) EllapsedTime: 18.2 seconds RetCode: 0 Status: OK PackageFile: MultimodalExperiment_1.11.0.tar.gz PackageFileSize: 2.532 MiB