Package: MutationalPatterns Version: 3.21.0 Command: /Library/Frameworks/R.framework/Resources/bin/R CMD INSTALL MutationalPatterns StartedAt: 2025-11-19 15:23:39 -0500 (Wed, 19 Nov 2025) EndedAt: 2025-11-19 15:23:47 -0500 (Wed, 19 Nov 2025) EllapsedTime: 7.1 seconds RetCode: 0 Status: OK