Package: MutationalPatterns Version: 3.21.0 Command: /Library/Frameworks/R.framework/Resources/bin/R CMD build --keep-empty-dirs --no-resave-data MutationalPatterns StartedAt: 2025-11-19 17:58:11 -0500 (Wed, 19 Nov 2025) EndedAt: 2025-11-19 18:01:19 -0500 (Wed, 19 Nov 2025) EllapsedTime: 187.7 seconds RetCode: 1 Status: ERROR PackageFile: None PackageFileSize: NA