Package: MutationalPatterns Version: 3.21.0 Command: /Library/Frameworks/R.framework/Resources/bin/R CMD INSTALL MutationalPatterns StartedAt: 2025-11-19 15:43:57 -0500 (Wed, 19 Nov 2025) EndedAt: 2025-11-19 15:44:24 -0500 (Wed, 19 Nov 2025) EllapsedTime: 26.8 seconds RetCode: 0 Status: OK