Package: MutationalPatterns Version: 3.21.0 Command: /home/biocbuild/bbs-3.23-bioc/R/bin/R CMD INSTALL MutationalPatterns StartedAt: 2025-11-19 15:45:34 -0500 (Wed, 19 Nov 2025) EndedAt: 2025-11-19 15:45:52 -0500 (Wed, 19 Nov 2025) EllapsedTime: 18.2 seconds RetCode: 0 Status: OK