Package: NanoStringDiff Version: 1.41.0 Command: /Library/Frameworks/R.framework/Resources/bin/R CMD build --keep-empty-dirs --no-resave-data NanoStringDiff StartedAt: 2025-11-19 17:58:48 -0500 (Wed, 19 Nov 2025) EndedAt: 2025-11-19 17:59:14 -0500 (Wed, 19 Nov 2025) EllapsedTime: 26.3 seconds RetCode: 0 Status: OK PackageFile: NanoStringDiff_1.41.0.tar.gz PackageFileSize: 415.7 KiB