Package: NanoStringDiff Version: 1.41.0 Command: /Library/Frameworks/R.framework/Resources/bin/R CMD INSTALL NanoStringDiff StartedAt: 2025-11-19 15:22:07 -0500 (Wed, 19 Nov 2025) EndedAt: 2025-11-19 15:22:23 -0500 (Wed, 19 Nov 2025) EllapsedTime: 16.5 seconds RetCode: 0 Status: OK