Package: NanoStringDiff Version: 1.41.0 Command: /home/biocbuild/bbs-3.23-bioc/R/bin/R CMD build --keep-empty-dirs --no-resave-data NanoStringDiff StartedAt: 2025-11-19 19:01:16 -0500 (Wed, 19 Nov 2025) EndedAt: 2025-11-19 19:01:36 -0500 (Wed, 19 Nov 2025) EllapsedTime: 20.0 seconds RetCode: 0 Status: OK PackageFile: NanoStringDiff_1.41.0.tar.gz PackageFileSize: 417.6 KiB