Package: NanoStringDiff Version: 1.41.0 Command: /home/biocbuild/bbs-3.23-bioc/R/bin/R CMD INSTALL NanoStringDiff StartedAt: 2025-11-19 15:18:31 -0500 (Wed, 19 Nov 2025) EndedAt: 2025-11-19 15:18:41 -0500 (Wed, 19 Nov 2025) EllapsedTime: 9.7 seconds RetCode: 0 Status: OK