Package: NanoStringNCTools Version: 1.19.0 Command: /Library/Frameworks/R.framework/Resources/bin/R CMD build --keep-empty-dirs --no-resave-data NanoStringNCTools StartedAt: 2025-11-19 17:58:52 -0500 (Wed, 19 Nov 2025) EndedAt: 2025-11-19 17:59:32 -0500 (Wed, 19 Nov 2025) EllapsedTime: 40.0 seconds RetCode: 0 Status: OK PackageFile: NanoStringNCTools_1.19.0.tar.gz PackageFileSize: 505.6 KiB