Package: NanoStringNCTools Version: 1.19.0 Command: /home/biocbuild/bbs-3.23-bioc/R/bin/R CMD build --keep-empty-dirs --no-resave-data NanoStringNCTools StartedAt: 2025-11-19 19:01:16 -0500 (Wed, 19 Nov 2025) EndedAt: 2025-11-19 19:01:46 -0500 (Wed, 19 Nov 2025) EllapsedTime: 30.0 seconds RetCode: 0 Status: OK PackageFile: NanoStringNCTools_1.19.0.tar.gz PackageFileSize: 500.2 KiB