Package: NanoStringNCTools Version: 1.19.0 Command: /home/biocbuild/bbs-3.23-bioc/R/bin/R CMD INSTALL NanoStringNCTools StartedAt: 2025-11-18 16:08:22 -0500 (Tue, 18 Nov 2025) EndedAt: 2025-11-18 16:08:40 -0500 (Tue, 18 Nov 2025) EllapsedTime: 17.2 seconds RetCode: 0 Status: OK