Package: OSAT Version: 1.59.0 Command: rm -rf OSAT.buildbin-libdir && mkdir OSAT.buildbin-libdir && /Users/biocbuild/BBS/utils/build-universal.sh OSAT_1.59.0.tar.gz /Library/Frameworks/R.framework/Resources/bin/R OSAT.buildbin-libdir StartedAt: 2025-11-24 23:52:48 -0500 (Mon, 24 Nov 2025) EndedAt: 2025-11-24 23:52:51 -0500 (Mon, 24 Nov 2025) EllapsedTime: 3.1 seconds RetCode: 0 Status: OK PackageFile: OSAT_1.59.0.tgz PackageFileSize: 648.8 KiB