Package: OSAT Version: 1.59.0 Command: /Library/Frameworks/R.framework/Resources/bin/R CMD build --keep-empty-dirs --no-resave-data OSAT StartedAt: 2025-11-26 17:12:52 -0500 (Wed, 26 Nov 2025) EndedAt: 2025-11-26 17:13:13 -0500 (Wed, 26 Nov 2025) EllapsedTime: 20.2 seconds RetCode: 0 Status: OK PackageFile: OSAT_1.59.0.tar.gz PackageFileSize: 959.7 KiB