Package: PCAtools Version: 2.23.0 Command: /Library/Frameworks/R.framework/Resources/bin/R CMD INSTALL PCAtools StartedAt: 2025-11-18 15:38:54 -0500 (Tue, 18 Nov 2025) EndedAt: 2025-11-18 15:39:07 -0500 (Tue, 18 Nov 2025) EllapsedTime: 12.3 seconds RetCode: 0 Status: OK