Package: PCAtools Version: 2.23.0 Command: /Library/Frameworks/R.framework/Resources/bin/R CMD build --keep-empty-dirs --no-resave-data PCAtools StartedAt: 2025-11-19 18:09:34 -0500 (Wed, 19 Nov 2025) EndedAt: 2025-11-19 18:13:02 -0500 (Wed, 19 Nov 2025) EllapsedTime: 208.1 seconds RetCode: 1 Status: ERROR PackageFile: None PackageFileSize: NA